BEGIN:VCALENDAR
VERSION:2.0
PRODID:-//François Couplan - ECPv6.15.17//NONSGML v1.0//EN
CALSCALE:GREGORIAN
METHOD:PUBLISH
X-ORIGINAL-URL:https://couplan.com
X-WR-CALDESC:Évènements pour François Couplan
REFRESH-INTERVAL;VALUE=DURATION:PT1H
X-Robots-Tag:noindex
X-PUBLISHED-TTL:PT1H
BEGIN:VTIMEZONE
TZID:Europe/Paris
BEGIN:DAYLIGHT
TZOFFSETFROM:+0100
TZOFFSETTO:+0200
TZNAME:CEST
DTSTART:20220327T010000
END:DAYLIGHT
BEGIN:STANDARD
TZOFFSETFROM:+0200
TZOFFSETTO:+0100
TZNAME:CET
DTSTART:20221030T010000
END:STANDARD
BEGIN:DAYLIGHT
TZOFFSETFROM:+0100
TZOFFSETTO:+0200
TZNAME:CEST
DTSTART:20230326T010000
END:DAYLIGHT
BEGIN:STANDARD
TZOFFSETFROM:+0200
TZOFFSETTO:+0100
TZNAME:CET
DTSTART:20231029T010000
END:STANDARD
BEGIN:DAYLIGHT
TZOFFSETFROM:+0100
TZOFFSETTO:+0200
TZNAME:CEST
DTSTART:20240331T010000
END:DAYLIGHT
BEGIN:STANDARD
TZOFFSETFROM:+0200
TZOFFSETTO:+0100
TZNAME:CET
DTSTART:20241027T010000
END:STANDARD
END:VTIMEZONE
BEGIN:VEVENT
DTSTART;TZID=Europe/Paris:20230608T133000
DTEND;TZID=Europe/Paris:20230608T210000
DTSTAMP:20260422T144959
CREATED:20230317T154956Z
LAST-MODIFIED:20230317T154956Z
UID:5581-1686231000-1686258000@couplan.com
SUMMARY:Cycle des 4 saisons
DESCRIPTION:La découpe de ce stage en 4 demi-journées étalées du début du printemps à la fin de l’été est conçue pour permettre à chacun de s’approcher du monde des herbes comestibles\, médicinales et autres de manière progressive\, en observant l’évolution de la végétation. \nNous verrons d’abord sortir les premières feuilles et jeunes pousses printanières (avril)\, puis nous les reconnaîtrons à un stade plus avancé (mai) pour ensuite découvrir la floraison de la nature (juin) et enfin les fruits de la fin d’été (septembre). Nous serons ainsi capables d’identifier avec davantage de certitude tout ce qui pousse en saison autour de nous\, à différents stades. \nL’après-midi\, nous sortirons sur le terrain pour observer\, reconnaître et cueillir les plantes dans leurs différents habitats. Puis en début de soirée\, nous nous retrouverons en cuisine pour préparer ensemble un délicieux repas sauvage. \n\n\nà Massonnens\, de 13h30 à 21h\n\nJeudi 13 avril 2023\nJeudi  4 mai 2023\nJeudi  8 juin 2023\nJeudi  7 septembre 2023\n\nPossibilité de s’inscrire pour 1 ou plusieurs sessions ! \n\n\n\nVous pouvez vous inscrire ici. \n\n  \n 
URL:https://couplan.com/evenement/cycle-des-4-saisons-3/
CATEGORIES:Autres animateurs
ATTACH;FMTTYPE=image/jpeg:https://couplan.com/wp-content/uploads/2023/03/ry-e.jpg
ORGANIZER;CN="Fran%C3%A7oise Marmy":MAILTO:fmarmy@couplan.com
END:VEVENT
BEGIN:VEVENT
DTSTART;TZID=Europe/Paris:20230610T133000
DTEND;TZID=Europe/Paris:20230610T203000
DTSTAMP:20260422T144959
CREATED:20230317T153227Z
LAST-MODIFIED:20230317T154316Z
UID:5567-1686403800-1686429000@couplan.com
SUMMARY:Découverte Cuisine Sauvage
DESCRIPTION:Au cours d’une journée\, nous partirons en balade et vous apprendrez à reconnaître un bon nombre de plantes sauvages comestibles qui poussent couramment autour de nous. Vous découvrirez que la nature est pleine de ressources méconnues. \nNous cueillerons de quoi préparer ensemble un repas savoureux et coloré plein de vitamines! Ce stage est avant tout pratique. Ce qui compte\, c’est de se rapprocher de la nature\, de mieux connaître son environnement immédiat afin d’intégrer les plantes dans son quotidien pour son bien-être et celui de ses proches. \n\nMatériel à prévoir/apporter\n\nun cahier\, crayon et scotch pour coller les échantillons de plantes\ndes sacs en papier et 1 ou 2 tupper ware\n1 paire de ciseaux\ndes chaussures et des vêtements adaptés à la météo\néventuellement\, un appareil photo pour photographier les plantes\n1 pique-nique pour la pause de midi\n\nVous pouvez vous inscrire ici. \n\n  \n 
URL:https://couplan.com/evenement/decouverte-cuisine-sauvage-2/
CATEGORIES:Autres animateurs
ATTACH;FMTTYPE=image/jpeg:https://couplan.com/wp-content/uploads/2023/03/10.jpg
ORGANIZER;CN="Fran%C3%A7oise Marmy":MAILTO:fmarmy@couplan.com
END:VEVENT
BEGIN:VEVENT
DTSTART;TZID=Europe/Paris:20230623T093000
DTEND;TZID=Europe/Paris:20230623T170000
DTSTAMP:20260422T144959
CREATED:20230317T160916Z
LAST-MODIFIED:20230317T160916Z
UID:5588-1687512600-1687539600@couplan.com
SUMMARY:Préparations médicinales pour soigner sa famille
DESCRIPTION:  \n\nVous pouvez vous inscrire ici. \n\n  \n 
URL:https://couplan.com/evenement/preparations-medicinales-pour-soigner-sa-famille/
CATEGORIES:Autres animateurs
ATTACH;FMTTYPE=image/jpeg:https://couplan.com/wp-content/uploads/2023/03/10-1.jpg
ORGANIZER;CN="Fran%C3%A7oise Marmy":MAILTO:fmarmy@couplan.com
END:VEVENT
BEGIN:VEVENT
DTSTART;TZID=Europe/Paris:20230627T093000
DTEND;TZID=Europe/Paris:20230627T170000
DTSTAMP:20260422T144959
CREATED:20230317T161012Z
LAST-MODIFIED:20230317T161012Z
UID:5590-1687858200-1687885200@couplan.com
SUMMARY:Préparations médicinales pour soigner sa famille
DESCRIPTION:  \n\nVous pouvez vous inscrire ici. \n\n  \n 
URL:https://couplan.com/evenement/preparations-medicinales-pour-soigner-sa-famille-2/
CATEGORIES:Autres animateurs
ATTACH;FMTTYPE=image/jpeg:https://couplan.com/wp-content/uploads/2023/03/10-1.jpg
ORGANIZER;CN="Fran%C3%A7oise Marmy":MAILTO:fmarmy@couplan.com
END:VEVENT
END:VCALENDAR